BEGIN:VCALENDAR
VERSION:2.0
PRODID:icalendar-ruby
CALSCALE:GREGORIAN
METHOD:PUBLISH
BEGIN:VEVENT
DTSTAMP:20260421T140218Z
UID:10-258435@rainsboromethodist.com
DTSTART:20260916T110000Z
DTEND:20260916T120000Z
CLASS:PUBLIC
CREATED:20260421T081745
DESCRIPTION:Coffee Is On Breakfast
LAST-MODIFIED:20260421T081745
LOCATION:Rainsboro Methodist Church Downstairs Fellowship Hall
SUMMARY:Coffee Is On Breakfast
URL;VALUE=URI:https://rainsboromethodist.com/events/coffee-is-on-breakfast/
 2026-09-16
END:VEVENT
END:VCALENDAR
