BEGIN:VCALENDAR
VERSION:2.0
PRODID:icalendar-ruby
CALSCALE:GREGORIAN
METHOD:PUBLISH
BEGIN:VEVENT
DTSTAMP:20260421T234300Z
UID:10-258725@rainsboromethodist.com
DTSTART:20261028T110000Z
DTEND:20261028T120000Z
CLASS:PUBLIC
CREATED:20260421T184734
DESCRIPTION:Coffee Is On Breakfast
LAST-MODIFIED:20260421T184734
LOCATION:Rainsboro Methodist Church Downstairs Fellowship Hall
SUMMARY:Coffee Is On Breakfast
URL;VALUE=URI:https://rainsboromethodist.com/events/coffee-is-on-breakfast/
 2026-10-28
END:VEVENT
END:VCALENDAR
