BEGIN:VCALENDAR
VERSION:2.0
PRODID:icalendar-ruby
CALSCALE:GREGORIAN
METHOD:PUBLISH
BEGIN:VEVENT
DTSTAMP:20260419T140533Z
UID:11-257618@rainsboromethodist.com
DTSTART:20260906T133000Z
DTEND:20260906T143000Z
CLASS:PUBLIC
CREATED:20260419T091646
DESCRIPTION:Sunday Morning Service
LAST-MODIFIED:20260419T091646
LOCATION:Rainsboro Methodist Church
SUMMARY:Sunday Morning Service
URL;VALUE=URI:https://rainsboromethodist.com/events/sunday-morning-service/
 2026-09-06
END:VEVENT
END:VCALENDAR
