BEGIN:VCALENDAR
VERSION:2.0
PRODID:icalendar-ruby
CALSCALE:GREGORIAN
METHOD:PUBLISH
BEGIN:VEVENT
DTSTAMP:20260419T152708Z
UID:11-257619@rainsboromethodist.com
DTSTART:20260913T133000Z
DTEND:20260913T143000Z
CLASS:PUBLIC
CREATED:20260419T091646
DESCRIPTION:Sunday Morning Service
LAST-MODIFIED:20260419T091646
LOCATION:Rainsboro Methodist Church
SUMMARY:Sunday Morning Service
URL;VALUE=URI:https://rainsboromethodist.com/events/sunday-morning-service/
 2026-09-13
END:VEVENT
END:VCALENDAR
