BEGIN:VCALENDAR
VERSION:2.0
PRODID:icalendar-ruby
CALSCALE:GREGORIAN
METHOD:PUBLISH
BEGIN:VEVENT
DTSTAMP:20260419T201022Z
UID:11-257692@rainsboromethodist.com
DTSTART:20261004T133000Z
DTEND:20261004T143000Z
CLASS:PUBLIC
CREATED:20260419T125841
DESCRIPTION:Sunday Morning Service
LAST-MODIFIED:20260419T125841
LOCATION:Rainsboro Methodist Church
SUMMARY:Sunday Morning Service
URL;VALUE=URI:https://rainsboromethodist.com/events/sunday-morning-service/
 2026-10-04
END:VEVENT
END:VCALENDAR
