BEGIN:VCALENDAR
VERSION:2.0
PRODID:icalendar-ruby
CALSCALE:GREGORIAN
METHOD:PUBLISH
BEGIN:VEVENT
DTSTAMP:20260419T220557Z
UID:11-257764@rainsboromethodist.com
DTSTART:20261011T133000Z
DTEND:20261011T143000Z
CLASS:PUBLIC
CREATED:20260419T164102
DESCRIPTION:Sunday Morning Service
LAST-MODIFIED:20260419T164102
LOCATION:Rainsboro Methodist Church
SUMMARY:Sunday Morning Service
URL;VALUE=URI:https://rainsboromethodist.com/events/sunday-morning-service/
 2026-10-11
END:VEVENT
END:VCALENDAR
