BEGIN:VCALENDAR
VERSION:2.0
PRODID:icalendar-ruby
CALSCALE:GREGORIAN
METHOD:PUBLISH
BEGIN:VEVENT
DTSTAMP:20260420T013124Z
UID:11-257837@rainsboromethodist.com
DTSTART:20261025T133000Z
DTEND:20261025T143000Z
CLASS:PUBLIC
CREATED:20260419T202311
DESCRIPTION:Sunday Morning Service
LAST-MODIFIED:20260419T202311
LOCATION:Rainsboro Methodist Church
SUMMARY:Sunday Morning Service
URL;VALUE=URI:https://rainsboromethodist.com/events/sunday-morning-service/
 2026-10-25
END:VEVENT
END:VCALENDAR
